BEGIN:VCALENDAR
VERSION:2.0
PRODID:-//Livestock Services - ECPv6.10.1.1//NONSGML v1.0//EN
CALSCALE:GREGORIAN
METHOD:PUBLISH
X-WR-CALNAME:Livestock Services
X-ORIGINAL-URL:https://livestock.co.zm
X-WR-CALDESC:Events for Livestock Services
REFRESH-INTERVAL;VALUE=DURATION:PT1H
X-Robots-Tag:noindex
X-PUBLISHED-TTL:PT1H
BEGIN:VTIMEZONE
TZID:Africa/Lusaka
BEGIN:STANDARD
TZOFFSETFROM:+0200
TZOFFSETTO:+0200
TZNAME:CAT
DTSTART:20250101T000000
END:STANDARD
END:VTIMEZONE
BEGIN:VEVENT
DTSTART;TZID=Africa/Lusaka:20250730T090000
DTEND;TZID=Africa/Lusaka:20250804T170000
DTSTAMP:20260423T131436
CREATED:20250728T070808Z
LAST-MODIFIED:20250728T072948Z
UID:3391-1753866000-1754326800@livestock.co.zm
SUMMARY:97th AGRICULTURE AND COMMERCIAL SHOW
DESCRIPTION:“Adapting to Climate Change”
URL:https://livestock.co.zm/event/97th-agriculture-and-commercial-show/
LOCATION:Showgrounds\, Great East Road\, Lusaka\, Zambia
CATEGORIES:Exhibitor
END:VEVENT
END:VCALENDAR