BEGIN:VCALENDAR
VERSION:2.0
PRODID:-//Livestock Services - ECPv6.10.1.1//NONSGML v1.0//EN
CALSCALE:GREGORIAN
METHOD:PUBLISH
X-WR-CALNAME:Livestock Services
X-ORIGINAL-URL:https://livestock.co.zm
X-WR-CALDESC:Events for Livestock Services
REFRESH-INTERVAL;VALUE=DURATION:PT1H
X-Robots-Tag:noindex
X-PUBLISHED-TTL:PT1H
BEGIN:VTIMEZONE
TZID:Africa/Lusaka
BEGIN:STANDARD
TZOFFSETFROM:+0200
TZOFFSETTO:+0200
TZNAME:CAT
DTSTART:20260101T000000
END:STANDARD
END:VTIMEZONE
BEGIN:VEVENT
DTSTART;TZID=Africa/Lusaka:20260131T090000
DTEND;TZID=Africa/Lusaka:20260131T120000
DTSTAMP:20260423T131829
CREATED:20260126T132043Z
LAST-MODIFIED:20260126T132227Z
UID:3401-1769850000-1769860800@livestock.co.zm
SUMMARY:Egg Production Part B
DESCRIPTION:Egg Production Part B \nTopics to be covered include: \n\nVaccination\nDisease prevention and Management\nFeed mixing and feeding\nBiosecurity
URL:https://livestock.co.zm/event/egg-production-part-b/
LOCATION:COSMAS MICHELO HALL (Showgrounds)
END:VEVENT
BEGIN:VEVENT
DTSTART;TZID=Africa/Lusaka:20260207T090000
DTEND;TZID=Africa/Lusaka:20260207T120000
DTSTAMP:20260423T131829
CREATED:20260126T132915Z
LAST-MODIFIED:20260126T132915Z
UID:3409-1770454800-1770465600@livestock.co.zm
SUMMARY:Fish Farming
DESCRIPTION:Fish Farming \nThe following topics to be covered: \n\nFish pond Management\nFeeding\nStocking Density
URL:https://livestock.co.zm/event/fish-farming/
LOCATION:COSMAS MICHELO HALL (Showgrounds)
END:VEVENT
BEGIN:VEVENT
DTSTART;TZID=Africa/Lusaka:20260214T090000
DTEND;TZID=Africa/Lusaka:20260214T120000
DTSTAMP:20260423T131829
CREATED:20260126T133927Z
LAST-MODIFIED:20260126T134015Z
UID:3413-1771059600-1771070400@livestock.co.zm
SUMMARY:Udder Health
DESCRIPTION:Udder Health \nThe following will be covered \n\nWhat is udder Health\nImportance of udder health\nBiosecurity
URL:https://livestock.co.zm/event/udder-health/
LOCATION:COSMAS MICHELO HALL (Showgrounds)
ORGANIZER;CN="Dr David Chanda":MAILTO:davidc@livestock.co.zm
END:VEVENT
BEGIN:VEVENT
DTSTART;TZID=Africa/Lusaka:20260221T090000
DTEND;TZID=Africa/Lusaka:20260221T120000
DTSTAMP:20260423T131829
CREATED:20260126T135542Z
LAST-MODIFIED:20260126T135803Z
UID:3419-1771664400-1771675200@livestock.co.zm
SUMMARY:Pig production Seminar
DESCRIPTION:Pig production \nThe following topics to be covered: \n\nExisting breeds and hybrids\nHousing and feeding\nGilt & boar selection and Farrowing\nVaccines & Medication\n\n                              
URL:https://livestock.co.zm/event/pig-production-seminar/
LOCATION:COSMAS MICHELO HALL (Showgrounds)
END:VEVENT
BEGIN:VEVENT
DTSTART;TZID=Africa/Lusaka:20260228T090000
DTEND;TZID=Africa/Lusaka:20260228T120000
DTSTAMP:20260423T131829
CREATED:20260126T140107Z
LAST-MODIFIED:20260126T142617Z
UID:3423-1772269200-1772280000@livestock.co.zm
SUMMARY:Plant Nutrition Seminar
DESCRIPTION:Plant Nutrition \nTopics to be covered: \n\nPlant Essential Elements\nPlant Nutrients Classification\nNutrient Function and Deficiency\nFactors affecting nutrient availability
URL:https://livestock.co.zm/event/plant-nutrition-seminar/
LOCATION:COSMAS MICHELO HALL (Showgrounds)
END:VEVENT
END:VCALENDAR