BEGIN:VCALENDAR
VERSION:2.0
PRODID:-//Livestock Services - ECPv6.10.1.1//NONSGML v1.0//EN
CALSCALE:GREGORIAN
METHOD:PUBLISH
X-WR-CALNAME:Livestock Services
X-ORIGINAL-URL:https://livestock.co.zm
X-WR-CALDESC:Events for Livestock Services
REFRESH-INTERVAL;VALUE=DURATION:PT1H
X-Robots-Tag:noindex
X-PUBLISHED-TTL:PT1H
BEGIN:VTIMEZONE
TZID:UTC
BEGIN:STANDARD
TZOFFSETFROM:+0000
TZOFFSETTO:+0000
TZNAME:UTC
DTSTART:20250101T000000
END:STANDARD
TZID:Africa/Lusaka
BEGIN:STANDARD
TZOFFSETFROM:+0200
TZOFFSETTO:+0200
TZNAME:CAT
DTSTART:20250101T000000
END:STANDARD
END:VTIMEZONE
BEGIN:VEVENT
DTSTART;TZID=UTC:20250323T090000
DTEND;TZID=UTC:20250323T120000
DTSTAMP:20260423T132313
CREATED:20250303T080332Z
LAST-MODIFIED:20250303T080809Z
UID:898-1742720400-1742731200@livestock.co.zm
SUMMARY:General Quail Production
DESCRIPTION:Topics : \n\nManagement\nAdequate control measures\nCorrect treatment practices
URL:https://livestock.co.zm/event/general-quail-production/
LOCATION:Livestock Services Lecture Theature\, H8X7+X6C\, Lusaka\, Lusaka\, Lusaka\, Zambia
ATTACH;FMTTYPE=image/png:https://livestock.co.zm/wp-content/uploads/2025/02/cropped-fcl.png
END:VEVENT
BEGIN:VEVENT
DTSTART;TZID=Africa/Lusaka:20250315T090000
DTEND;TZID=Africa/Lusaka:20250315T120000
DTSTAMP:20260423T132313
CREATED:20250303T085449Z
LAST-MODIFIED:20250303T091807Z
UID:917-1742029200-1742040000@livestock.co.zm
SUMMARY:Sheep & Goat Production
DESCRIPTION:Topics : \n\nTick Control\nWorm Control
URL:https://livestock.co.zm/event/sheep-goat-production/
LOCATION:Livestock Services Lecture Theature\, H8X7+X6C\, Lusaka\, Lusaka\, Lusaka\, Zambia
ATTACH;FMTTYPE=image/png:https://livestock.co.zm/wp-content/uploads/2025/02/cropped-fcl.png
END:VEVENT
BEGIN:VEVENT
DTSTART;TZID=Africa/Lusaka:20250305T090000
DTEND;TZID=Africa/Lusaka:20250305T120000
DTSTAMP:20260423T132313
CREATED:20250303T091510Z
LAST-MODIFIED:20250303T092203Z
UID:923-1741165200-1741176000@livestock.co.zm
SUMMARY:Beef Production
DESCRIPTION:Topics : \n\nTick Control\nWorm Control
URL:https://livestock.co.zm/event/beef-production/
LOCATION:Livestock Services Lecture Theature\, H8X7+X6C\, Lusaka\, Lusaka\, Lusaka\, Zambia
ATTACH;FMTTYPE=image/png:https://livestock.co.zm/wp-content/uploads/2025/02/cropped-fcl.png
END:VEVENT
END:VCALENDAR