BEGIN:VCALENDAR
VERSION:2.0
PRODID:-//Livestock Services - ECPv6.10.1.1//NONSGML v1.0//EN
CALSCALE:GREGORIAN
METHOD:PUBLISH
X-ORIGINAL-URL:https://livestock.co.zm
X-WR-CALDESC:Events for Livestock Services
REFRESH-INTERVAL;VALUE=DURATION:PT1H
X-Robots-Tag:noindex
X-PUBLISHED-TTL:PT1H
BEGIN:VTIMEZONE
TZID:Africa/Lusaka
BEGIN:STANDARD
TZOFFSETFROM:+0200
TZOFFSETTO:+0200
TZNAME:CAT
DTSTART:20250101T000000
END:STANDARD
END:VTIMEZONE
BEGIN:VEVENT
DTSTART;TZID=Africa/Lusaka:20250730T090000
DTEND;TZID=Africa/Lusaka:20250804T170000
DTSTAMP:20260423T131435
CREATED:20250728T070808Z
LAST-MODIFIED:20250728T072948Z
UID:3391-1753866000-1754326800@livestock.co.zm
SUMMARY:97th AGRICULTURE AND COMMERCIAL SHOW
DESCRIPTION:“Adapting to Climate Change”
URL:https://livestock.co.zm/event/97th-agriculture-and-commercial-show/
LOCATION:Showgrounds\, Great East Road\, Lusaka\, Zambia
CATEGORIES:Exhibitor
END:VEVENT
BEGIN:VEVENT
DTSTART;TZID=Africa/Lusaka:20250809T090000
DTEND;TZID=Africa/Lusaka:20250809T120000
DTSTAMP:20260423T131435
CREATED:20250719T080614Z
LAST-MODIFIED:20250719T082745Z
UID:3368-1754730000-1754740800@livestock.co.zm
SUMMARY:GOAT AND SHEEP PRODUCTION
DESCRIPTION:Breeds. Health management. Nutrition
URL:https://livestock.co.zm/event/goat-sheep-production/
LOCATION:Livestock Services Lecture Theature\, H8X7+X6C\, Lusaka\, Lusaka\, Lusaka\, Zambia
END:VEVENT
BEGIN:VEVENT
DTSTART;TZID=Africa/Lusaka:20250816T090000
DTEND;TZID=Africa/Lusaka:20250816T120000
DTSTAMP:20260423T131435
CREATED:20250719T080829Z
LAST-MODIFIED:20250719T080829Z
UID:3370-1755334800-1755345600@livestock.co.zm
SUMMARY:BEEF PRODUCTION
DESCRIPTION:Nutrition. General health management. Breeding and AI
URL:https://livestock.co.zm/event/beef-production-2/
LOCATION:Livestock Services Lecture Theature\, H8X7+X6C\, Lusaka\, Lusaka\, Lusaka\, Zambia
END:VEVENT
BEGIN:VEVENT
DTSTART;TZID=Africa/Lusaka:20250823T090000
DTEND;TZID=Africa/Lusaka:20250823T120000
DTSTAMP:20260423T131435
CREATED:20250719T081052Z
LAST-MODIFIED:20250719T081052Z
UID:3372-1755939600-1755950400@livestock.co.zm
SUMMARY:DISEASE PREVENTATION IN DIARY
DESCRIPTION:Disease of cow and milk. Disease causing calf deaths. The environment influence on disease. Disease of cows that may affect owner and family
URL:https://livestock.co.zm/event/disease-preventation-in-diary/
LOCATION:Livestock Services Lecture Theature\, H8X7+X6C\, Lusaka\, Lusaka\, Lusaka\, Zambia
END:VEVENT
BEGIN:VEVENT
DTSTART;TZID=Africa/Lusaka:20250830T090000
DTEND;TZID=Africa/Lusaka:20250830T120000
DTSTAMP:20260423T131435
CREATED:20250719T081259Z
LAST-MODIFIED:20250719T081259Z
UID:3374-1756544400-1756555200@livestock.co.zm
SUMMARY:GARLIC PRODUCTION
DESCRIPTION:Land preparation. Fertilization. Pest & diseases
URL:https://livestock.co.zm/event/garlic-production/
LOCATION:Livestock Services Lecture Theature\, H8X7+X6C\, Lusaka\, Lusaka\, Lusaka\, Zambia
END:VEVENT
END:VCALENDAR